BEGIN:VCALENDAR
VERSION:2.0
PRODID:-// - ECPv6.15.20//NONSGML v1.0//EN
CALSCALE:GREGORIAN
METHOD:PUBLISH
X-ORIGINAL-URL:https://cviaa.org/aa
X-WR-CALDESC:Events for 
REFRESH-INTERVAL;VALUE=DURATION:PT1H
X-Robots-Tag:noindex
X-PUBLISHED-TTL:PT1H
BEGIN:VTIMEZONE
TZID:America/Los_Angeles
BEGIN:DAYLIGHT
TZOFFSETFROM:-0800
TZOFFSETTO:-0700
TZNAME:PDT
DTSTART:20280312T100000
END:DAYLIGHT
BEGIN:STANDARD
TZOFFSETFROM:-0700
TZOFFSETTO:-0800
TZNAME:PST
DTSTART:20281105T090000
END:STANDARD
BEGIN:DAYLIGHT
TZOFFSETFROM:-0800
TZOFFSETTO:-0700
TZNAME:PDT
DTSTART:20290311T100000
END:DAYLIGHT
BEGIN:STANDARD
TZOFFSETFROM:-0700
TZOFFSETTO:-0800
TZNAME:PST
DTSTART:20291104T090000
END:STANDARD
BEGIN:DAYLIGHT
TZOFFSETFROM:-0800
TZOFFSETTO:-0700
TZNAME:PDT
DTSTART:20300310T100000
END:DAYLIGHT
BEGIN:STANDARD
TZOFFSETFROM:-0700
TZOFFSETTO:-0800
TZNAME:PST
DTSTART:20301103T090000
END:STANDARD
BEGIN:DAYLIGHT
TZOFFSETFROM:-0800
TZOFFSETTO:-0700
TZNAME:PDT
DTSTART:20310309T100000
END:DAYLIGHT
BEGIN:STANDARD
TZOFFSETFROM:-0700
TZOFFSETTO:-0800
TZNAME:PST
DTSTART:20311102T090000
END:STANDARD
BEGIN:DAYLIGHT
TZOFFSETFROM:-0800
TZOFFSETTO:-0700
TZNAME:PDT
DTSTART:20320314T100000
END:DAYLIGHT
BEGIN:STANDARD
TZOFFSETFROM:-0700
TZOFFSETTO:-0800
TZNAME:PST
DTSTART:20321107T090000
END:STANDARD
END:VTIMEZONE
BEGIN:VEVENT
DTSTART;TZID=America/Los_Angeles:20290430T190000
DTEND;TZID=America/Los_Angeles:20290430T200000
DTSTAMP:20260420T205737
CREATED:20260205T024809Z
LAST-MODIFIED:20260205T024809Z
UID:10005004-1872270000-1872273600@cviaa.org
SUMMARY:MCVYPAA Birthday Meeting
DESCRIPTION:
URL:https://cviaa.org/aa/event/mcvypaa-birthday-meeting/2029-04-30/
LOCATION:915 E Main Street Turlock\, CA 95380
END:VEVENT
BEGIN:VEVENT
DTSTART;TZID=America/Los_Angeles:20290528T190000
DTEND;TZID=America/Los_Angeles:20290528T200000
DTSTAMP:20260420T205737
CREATED:20260205T024809Z
LAST-MODIFIED:20260205T024809Z
UID:10005005-1874689200-1874692800@cviaa.org
SUMMARY:MCVYPAA Birthday Meeting
DESCRIPTION:
URL:https://cviaa.org/aa/event/mcvypaa-birthday-meeting/2029-05-28/
LOCATION:915 E Main Street Turlock\, CA 95380
END:VEVENT
BEGIN:VEVENT
DTSTART;TZID=America/Los_Angeles:20290625T190000
DTEND;TZID=America/Los_Angeles:20290625T200000
DTSTAMP:20260420T205737
CREATED:20260205T024809Z
LAST-MODIFIED:20260205T024809Z
UID:10005006-1877108400-1877112000@cviaa.org
SUMMARY:MCVYPAA Birthday Meeting
DESCRIPTION:
URL:https://cviaa.org/aa/event/mcvypaa-birthday-meeting/2029-06-25/
LOCATION:915 E Main Street Turlock\, CA 95380
END:VEVENT
BEGIN:VEVENT
DTSTART;TZID=America/Los_Angeles:20290730T190000
DTEND;TZID=America/Los_Angeles:20290730T200000
DTSTAMP:20260420T205737
CREATED:20260205T024809Z
LAST-MODIFIED:20260205T024809Z
UID:10005007-1880132400-1880136000@cviaa.org
SUMMARY:MCVYPAA Birthday Meeting
DESCRIPTION:
URL:https://cviaa.org/aa/event/mcvypaa-birthday-meeting/2029-07-30/
LOCATION:915 E Main Street Turlock\, CA 95380
END:VEVENT
BEGIN:VEVENT
DTSTART;TZID=America/Los_Angeles:20290827T190000
DTEND;TZID=America/Los_Angeles:20290827T200000
DTSTAMP:20260420T205737
CREATED:20260205T024809Z
LAST-MODIFIED:20260205T024809Z
UID:10005008-1882551600-1882555200@cviaa.org
SUMMARY:MCVYPAA Birthday Meeting
DESCRIPTION:
URL:https://cviaa.org/aa/event/mcvypaa-birthday-meeting/2029-08-27/
LOCATION:915 E Main Street Turlock\, CA 95380
END:VEVENT
BEGIN:VEVENT
DTSTART;TZID=America/Los_Angeles:20290924T190000
DTEND;TZID=America/Los_Angeles:20290924T200000
DTSTAMP:20260420T205737
CREATED:20260205T024809Z
LAST-MODIFIED:20260205T024809Z
UID:10005009-1884970800-1884974400@cviaa.org
SUMMARY:MCVYPAA Birthday Meeting
DESCRIPTION:
URL:https://cviaa.org/aa/event/mcvypaa-birthday-meeting/2029-09-24/
LOCATION:915 E Main Street Turlock\, CA 95380
END:VEVENT
BEGIN:VEVENT
DTSTART;TZID=America/Los_Angeles:20291029T190000
DTEND;TZID=America/Los_Angeles:20291029T200000
DTSTAMP:20260420T205737
CREATED:20260205T024809Z
LAST-MODIFIED:20260205T024809Z
UID:10005010-1887994800-1887998400@cviaa.org
SUMMARY:MCVYPAA Birthday Meeting
DESCRIPTION:
URL:https://cviaa.org/aa/event/mcvypaa-birthday-meeting/2029-10-29/
LOCATION:915 E Main Street Turlock\, CA 95380
END:VEVENT
BEGIN:VEVENT
DTSTART;TZID=America/Los_Angeles:20291126T190000
DTEND;TZID=America/Los_Angeles:20291126T200000
DTSTAMP:20260420T205737
CREATED:20260205T024809Z
LAST-MODIFIED:20260205T024809Z
UID:10005011-1890414000-1890417600@cviaa.org
SUMMARY:MCVYPAA Birthday Meeting
DESCRIPTION:
URL:https://cviaa.org/aa/event/mcvypaa-birthday-meeting/2029-11-26/
LOCATION:915 E Main Street Turlock\, CA 95380
END:VEVENT
BEGIN:VEVENT
DTSTART;TZID=America/Los_Angeles:20291231T190000
DTEND;TZID=America/Los_Angeles:20291231T200000
DTSTAMP:20260420T205737
CREATED:20260205T024809Z
LAST-MODIFIED:20260205T024809Z
UID:10005012-1893438000-1893441600@cviaa.org
SUMMARY:MCVYPAA Birthday Meeting
DESCRIPTION:
URL:https://cviaa.org/aa/event/mcvypaa-birthday-meeting/2029-12-31/
LOCATION:915 E Main Street Turlock\, CA 95380
END:VEVENT
BEGIN:VEVENT
DTSTART;TZID=America/Los_Angeles:20300128T190000
DTEND;TZID=America/Los_Angeles:20300128T200000
DTSTAMP:20260420T205737
CREATED:20260205T024809Z
LAST-MODIFIED:20260205T024809Z
UID:10005013-1895857200-1895860800@cviaa.org
SUMMARY:MCVYPAA Birthday Meeting
DESCRIPTION:
URL:https://cviaa.org/aa/event/mcvypaa-birthday-meeting/2030-01-28/
LOCATION:915 E Main Street Turlock\, CA 95380
END:VEVENT
BEGIN:VEVENT
DTSTART;TZID=America/Los_Angeles:20300225T190000
DTEND;TZID=America/Los_Angeles:20300225T200000
DTSTAMP:20260420T205737
CREATED:20260205T024809Z
LAST-MODIFIED:20260205T024809Z
UID:10005014-1898276400-1898280000@cviaa.org
SUMMARY:MCVYPAA Birthday Meeting
DESCRIPTION:
URL:https://cviaa.org/aa/event/mcvypaa-birthday-meeting/2030-02-25/
LOCATION:915 E Main Street Turlock\, CA 95380
END:VEVENT
BEGIN:VEVENT
DTSTART;TZID=America/Los_Angeles:20300325T190000
DTEND;TZID=America/Los_Angeles:20300325T200000
DTSTAMP:20260420T205737
CREATED:20260205T024809Z
LAST-MODIFIED:20260205T024809Z
UID:10005015-1900695600-1900699200@cviaa.org
SUMMARY:MCVYPAA Birthday Meeting
DESCRIPTION:
URL:https://cviaa.org/aa/event/mcvypaa-birthday-meeting/2030-03-25/
LOCATION:915 E Main Street Turlock\, CA 95380
END:VEVENT
BEGIN:VEVENT
DTSTART;TZID=America/Los_Angeles:20300429T190000
DTEND;TZID=America/Los_Angeles:20300429T200000
DTSTAMP:20260420T205737
CREATED:20260205T024809Z
LAST-MODIFIED:20260205T024809Z
UID:10005016-1903719600-1903723200@cviaa.org
SUMMARY:MCVYPAA Birthday Meeting
DESCRIPTION:
URL:https://cviaa.org/aa/event/mcvypaa-birthday-meeting/2030-04-29/
LOCATION:915 E Main Street Turlock\, CA 95380
END:VEVENT
BEGIN:VEVENT
DTSTART;TZID=America/Los_Angeles:20300527T190000
DTEND;TZID=America/Los_Angeles:20300527T200000
DTSTAMP:20260420T205737
CREATED:20260205T024809Z
LAST-MODIFIED:20260205T024809Z
UID:10005017-1906138800-1906142400@cviaa.org
SUMMARY:MCVYPAA Birthday Meeting
DESCRIPTION:
URL:https://cviaa.org/aa/event/mcvypaa-birthday-meeting/2030-05-27/
LOCATION:915 E Main Street Turlock\, CA 95380
END:VEVENT
BEGIN:VEVENT
DTSTART;TZID=America/Los_Angeles:20300624T190000
DTEND;TZID=America/Los_Angeles:20300624T200000
DTSTAMP:20260420T205738
CREATED:20260205T024809Z
LAST-MODIFIED:20260205T024809Z
UID:10005018-1908558000-1908561600@cviaa.org
SUMMARY:MCVYPAA Birthday Meeting
DESCRIPTION:
URL:https://cviaa.org/aa/event/mcvypaa-birthday-meeting/2030-06-24/
LOCATION:915 E Main Street Turlock\, CA 95380
END:VEVENT
BEGIN:VEVENT
DTSTART;TZID=America/Los_Angeles:20300729T190000
DTEND;TZID=America/Los_Angeles:20300729T200000
DTSTAMP:20260420T205738
CREATED:20260205T024809Z
LAST-MODIFIED:20260205T024809Z
UID:10005019-1911582000-1911585600@cviaa.org
SUMMARY:MCVYPAA Birthday Meeting
DESCRIPTION:
URL:https://cviaa.org/aa/event/mcvypaa-birthday-meeting/2030-07-29/
LOCATION:915 E Main Street Turlock\, CA 95380
END:VEVENT
BEGIN:VEVENT
DTSTART;TZID=America/Los_Angeles:20300826T190000
DTEND;TZID=America/Los_Angeles:20300826T200000
DTSTAMP:20260420T205738
CREATED:20260205T024809Z
LAST-MODIFIED:20260205T024809Z
UID:10005020-1914001200-1914004800@cviaa.org
SUMMARY:MCVYPAA Birthday Meeting
DESCRIPTION:
URL:https://cviaa.org/aa/event/mcvypaa-birthday-meeting/2030-08-26/
LOCATION:915 E Main Street Turlock\, CA 95380
END:VEVENT
BEGIN:VEVENT
DTSTART;TZID=America/Los_Angeles:20300930T190000
DTEND;TZID=America/Los_Angeles:20300930T200000
DTSTAMP:20260420T205738
CREATED:20260205T024809Z
LAST-MODIFIED:20260205T024809Z
UID:10005021-1917025200-1917028800@cviaa.org
SUMMARY:MCVYPAA Birthday Meeting
DESCRIPTION:
URL:https://cviaa.org/aa/event/mcvypaa-birthday-meeting/2030-09-30/
LOCATION:915 E Main Street Turlock\, CA 95380
END:VEVENT
BEGIN:VEVENT
DTSTART;TZID=America/Los_Angeles:20301028T190000
DTEND;TZID=America/Los_Angeles:20301028T200000
DTSTAMP:20260420T205738
CREATED:20260205T024809Z
LAST-MODIFIED:20260205T024809Z
UID:10005022-1919444400-1919448000@cviaa.org
SUMMARY:MCVYPAA Birthday Meeting
DESCRIPTION:
URL:https://cviaa.org/aa/event/mcvypaa-birthday-meeting/2030-10-28/
LOCATION:915 E Main Street Turlock\, CA 95380
END:VEVENT
BEGIN:VEVENT
DTSTART;TZID=America/Los_Angeles:20301125T190000
DTEND;TZID=America/Los_Angeles:20301125T200000
DTSTAMP:20260420T205738
CREATED:20260205T024809Z
LAST-MODIFIED:20260205T024809Z
UID:10005023-1921863600-1921867200@cviaa.org
SUMMARY:MCVYPAA Birthday Meeting
DESCRIPTION:
URL:https://cviaa.org/aa/event/mcvypaa-birthday-meeting/2030-11-25/
LOCATION:915 E Main Street Turlock\, CA 95380
END:VEVENT
BEGIN:VEVENT
DTSTART;TZID=America/Los_Angeles:20301230T190000
DTEND;TZID=America/Los_Angeles:20301230T200000
DTSTAMP:20260420T205738
CREATED:20260205T024809Z
LAST-MODIFIED:20260205T024809Z
UID:10005024-1924887600-1924891200@cviaa.org
SUMMARY:MCVYPAA Birthday Meeting
DESCRIPTION:
URL:https://cviaa.org/aa/event/mcvypaa-birthday-meeting/2030-12-30/
LOCATION:915 E Main Street Turlock\, CA 95380
END:VEVENT
BEGIN:VEVENT
DTSTART;TZID=America/Los_Angeles:20310127T190000
DTEND;TZID=America/Los_Angeles:20310127T200000
DTSTAMP:20260420T205738
CREATED:20260205T024809Z
LAST-MODIFIED:20260205T024809Z
UID:10005025-1927306800-1927310400@cviaa.org
SUMMARY:MCVYPAA Birthday Meeting
DESCRIPTION:
URL:https://cviaa.org/aa/event/mcvypaa-birthday-meeting/2031-01-27/
LOCATION:915 E Main Street Turlock\, CA 95380
END:VEVENT
END:VCALENDAR