BEGIN:VCALENDAR
VERSION:2.0
PRODID:-// - ECPv6.15.20//NONSGML v1.0//EN
CALSCALE:GREGORIAN
METHOD:PUBLISH
X-ORIGINAL-URL:https://cviaa.org/aa
X-WR-CALDESC:Events for 
REFRESH-INTERVAL;VALUE=DURATION:PT1H
X-Robots-Tag:noindex
X-PUBLISHED-TTL:PT1H
BEGIN:VTIMEZONE
TZID:America/Los_Angeles
BEGIN:DAYLIGHT
TZOFFSETFROM:-0800
TZOFFSETTO:-0700
TZNAME:PDT
DTSTART:20270314T100000
END:DAYLIGHT
BEGIN:STANDARD
TZOFFSETFROM:-0700
TZOFFSETTO:-0800
TZNAME:PST
DTSTART:20271107T090000
END:STANDARD
BEGIN:DAYLIGHT
TZOFFSETFROM:-0800
TZOFFSETTO:-0700
TZNAME:PDT
DTSTART:20280312T100000
END:DAYLIGHT
BEGIN:STANDARD
TZOFFSETFROM:-0700
TZOFFSETTO:-0800
TZNAME:PST
DTSTART:20281105T090000
END:STANDARD
BEGIN:DAYLIGHT
TZOFFSETFROM:-0800
TZOFFSETTO:-0700
TZNAME:PDT
DTSTART:20290311T100000
END:DAYLIGHT
BEGIN:STANDARD
TZOFFSETFROM:-0700
TZOFFSETTO:-0800
TZNAME:PST
DTSTART:20291104T090000
END:STANDARD
BEGIN:DAYLIGHT
TZOFFSETFROM:-0800
TZOFFSETTO:-0700
TZNAME:PDT
DTSTART:20300310T100000
END:DAYLIGHT
BEGIN:STANDARD
TZOFFSETFROM:-0700
TZOFFSETTO:-0800
TZNAME:PST
DTSTART:20301103T090000
END:STANDARD
END:VTIMEZONE
BEGIN:VEVENT
DTSTART;TZID=America/Los_Angeles:20280424T180000
DTEND;TZID=America/Los_Angeles:20280424T193000
DTSTAMP:20260420T064443
CREATED:20250716T055257Z
LAST-MODIFIED:20250716T055334Z
UID:10004665-1840212000-1840217400@cviaa.org
SUMMARY:Central Valley Intergroup Business Meeting
DESCRIPTION:
URL:https://cviaa.org/aa/event/central-valley-intergroup-business-meeting/2028-04-24/
LOCATION:Salvation Army Salt Room\, 893 Lander Ave\, Turlock\, CA\, 95380\, United States
END:VEVENT
BEGIN:VEVENT
DTSTART;TZID=America/Los_Angeles:20280508T183000
DTEND;TZID=America/Los_Angeles:20280508T193000
DTSTAMP:20260420T064443
CREATED:20260205T024622Z
LAST-MODIFIED:20260205T024622Z
UID:10004933-1841423400-1841427000@cviaa.org
SUMMARY:Simply AA Business Meeting
DESCRIPTION:
URL:https://cviaa.org/aa/event/simply-aa-business-meeting/2028-05-08/
LOCATION:Salvation Army Salt Room\, 893 Lander Ave\, Turlock\, CA\, 95380\, United States
END:VEVENT
BEGIN:VEVENT
DTSTART;TZID=America/Los_Angeles:20280513T173000
DTEND;TZID=America/Los_Angeles:20280513T193000
DTSTAMP:20260420T064443
CREATED:20230922T141320Z
LAST-MODIFIED:20230922T141357Z
UID:10002666-1841851800-1841859000@cviaa.org
SUMMARY:Simply AA Birthday Speaker meeting
DESCRIPTION:Potluck at 5:30 PM\nSpeaker at 6:30 PM
URL:https://cviaa.org/aa/event/simply-aa-birthday-speaker-meeting-2/2028-05-13/
LOCATION:Salvation Army Salt Room\, 893 Lander Ave\, Turlock\, CA\, 95380\, United States
END:VEVENT
BEGIN:VEVENT
DTSTART;TZID=America/Los_Angeles:20280522T180000
DTEND;TZID=America/Los_Angeles:20280522T193000
DTSTAMP:20260420T064443
CREATED:20250716T055257Z
LAST-MODIFIED:20250716T055334Z
UID:10004666-1842631200-1842636600@cviaa.org
SUMMARY:Central Valley Intergroup Business Meeting
DESCRIPTION:
URL:https://cviaa.org/aa/event/central-valley-intergroup-business-meeting/2028-05-22/
LOCATION:Salvation Army Salt Room\, 893 Lander Ave\, Turlock\, CA\, 95380\, United States
END:VEVENT
BEGIN:VEVENT
DTSTART;TZID=America/Los_Angeles:20280610T173000
DTEND;TZID=America/Los_Angeles:20280610T193000
DTSTAMP:20260420T064443
CREATED:20230922T141320Z
LAST-MODIFIED:20230922T141357Z
UID:10002667-1844271000-1844278200@cviaa.org
SUMMARY:Simply AA Birthday Speaker meeting
DESCRIPTION:Potluck at 5:30 PM\nSpeaker at 6:30 PM
URL:https://cviaa.org/aa/event/simply-aa-birthday-speaker-meeting-2/2028-06-10/
LOCATION:Salvation Army Salt Room\, 893 Lander Ave\, Turlock\, CA\, 95380\, United States
END:VEVENT
BEGIN:VEVENT
DTSTART;TZID=America/Los_Angeles:20280612T183000
DTEND;TZID=America/Los_Angeles:20280612T193000
DTSTAMP:20260420T064443
CREATED:20260205T024622Z
LAST-MODIFIED:20260205T024622Z
UID:10004934-1844447400-1844451000@cviaa.org
SUMMARY:Simply AA Business Meeting
DESCRIPTION:
URL:https://cviaa.org/aa/event/simply-aa-business-meeting/2028-06-12/
LOCATION:Salvation Army Salt Room\, 893 Lander Ave\, Turlock\, CA\, 95380\, United States
END:VEVENT
BEGIN:VEVENT
DTSTART;TZID=America/Los_Angeles:20280626T180000
DTEND;TZID=America/Los_Angeles:20280626T193000
DTSTAMP:20260420T064443
CREATED:20250716T055257Z
LAST-MODIFIED:20250716T055334Z
UID:10004667-1845655200-1845660600@cviaa.org
SUMMARY:Central Valley Intergroup Business Meeting
DESCRIPTION:
URL:https://cviaa.org/aa/event/central-valley-intergroup-business-meeting/2028-06-26/
LOCATION:Salvation Army Salt Room\, 893 Lander Ave\, Turlock\, CA\, 95380\, United States
END:VEVENT
BEGIN:VEVENT
DTSTART;TZID=America/Los_Angeles:20280708T173000
DTEND;TZID=America/Los_Angeles:20280708T193000
DTSTAMP:20260420T064443
CREATED:20230922T141320Z
LAST-MODIFIED:20230922T141357Z
UID:10002668-1846690200-1846697400@cviaa.org
SUMMARY:Simply AA Birthday Speaker meeting
DESCRIPTION:Potluck at 5:30 PM\nSpeaker at 6:30 PM
URL:https://cviaa.org/aa/event/simply-aa-birthday-speaker-meeting-2/2028-07-08/
LOCATION:Salvation Army Salt Room\, 893 Lander Ave\, Turlock\, CA\, 95380\, United States
END:VEVENT
BEGIN:VEVENT
DTSTART;TZID=America/Los_Angeles:20280710T183000
DTEND;TZID=America/Los_Angeles:20280710T193000
DTSTAMP:20260420T064443
CREATED:20260205T024622Z
LAST-MODIFIED:20260205T024622Z
UID:10004935-1846866600-1846870200@cviaa.org
SUMMARY:Simply AA Business Meeting
DESCRIPTION:
URL:https://cviaa.org/aa/event/simply-aa-business-meeting/2028-07-10/
LOCATION:Salvation Army Salt Room\, 893 Lander Ave\, Turlock\, CA\, 95380\, United States
END:VEVENT
BEGIN:VEVENT
DTSTART;TZID=America/Los_Angeles:20280724T180000
DTEND;TZID=America/Los_Angeles:20280724T193000
DTSTAMP:20260420T064443
CREATED:20250716T055257Z
LAST-MODIFIED:20250716T055334Z
UID:10004668-1848074400-1848079800@cviaa.org
SUMMARY:Central Valley Intergroup Business Meeting
DESCRIPTION:
URL:https://cviaa.org/aa/event/central-valley-intergroup-business-meeting/2028-07-24/
LOCATION:Salvation Army Salt Room\, 893 Lander Ave\, Turlock\, CA\, 95380\, United States
END:VEVENT
BEGIN:VEVENT
DTSTART;TZID=America/Los_Angeles:20280812T173000
DTEND;TZID=America/Los_Angeles:20280812T193000
DTSTAMP:20260420T064443
CREATED:20230922T141320Z
LAST-MODIFIED:20230922T141357Z
UID:10002669-1849714200-1849721400@cviaa.org
SUMMARY:Simply AA Birthday Speaker meeting
DESCRIPTION:Potluck at 5:30 PM\nSpeaker at 6:30 PM
URL:https://cviaa.org/aa/event/simply-aa-birthday-speaker-meeting-2/2028-08-12/
LOCATION:Salvation Army Salt Room\, 893 Lander Ave\, Turlock\, CA\, 95380\, United States
END:VEVENT
BEGIN:VEVENT
DTSTART;TZID=America/Los_Angeles:20280814T183000
DTEND;TZID=America/Los_Angeles:20280814T193000
DTSTAMP:20260420T064443
CREATED:20260205T024622Z
LAST-MODIFIED:20260205T024622Z
UID:10004936-1849890600-1849894200@cviaa.org
SUMMARY:Simply AA Business Meeting
DESCRIPTION:
URL:https://cviaa.org/aa/event/simply-aa-business-meeting/2028-08-14/
LOCATION:Salvation Army Salt Room\, 893 Lander Ave\, Turlock\, CA\, 95380\, United States
END:VEVENT
BEGIN:VEVENT
DTSTART;TZID=America/Los_Angeles:20280828T180000
DTEND;TZID=America/Los_Angeles:20280828T193000
DTSTAMP:20260420T064443
CREATED:20250716T055257Z
LAST-MODIFIED:20250716T055334Z
UID:10004669-1851098400-1851103800@cviaa.org
SUMMARY:Central Valley Intergroup Business Meeting
DESCRIPTION:
URL:https://cviaa.org/aa/event/central-valley-intergroup-business-meeting/2028-08-28/
LOCATION:Salvation Army Salt Room\, 893 Lander Ave\, Turlock\, CA\, 95380\, United States
END:VEVENT
BEGIN:VEVENT
DTSTART;TZID=America/Los_Angeles:20280909T173000
DTEND;TZID=America/Los_Angeles:20280909T193000
DTSTAMP:20260420T064443
CREATED:20230922T141320Z
LAST-MODIFIED:20230922T141357Z
UID:10002670-1852133400-1852140600@cviaa.org
SUMMARY:Simply AA Birthday Speaker meeting
DESCRIPTION:Potluck at 5:30 PM\nSpeaker at 6:30 PM
URL:https://cviaa.org/aa/event/simply-aa-birthday-speaker-meeting-2/2028-09-09/
LOCATION:Salvation Army Salt Room\, 893 Lander Ave\, Turlock\, CA\, 95380\, United States
END:VEVENT
BEGIN:VEVENT
DTSTART;TZID=America/Los_Angeles:20280911T183000
DTEND;TZID=America/Los_Angeles:20280911T193000
DTSTAMP:20260420T064443
CREATED:20260205T024622Z
LAST-MODIFIED:20260205T024622Z
UID:10004937-1852309800-1852313400@cviaa.org
SUMMARY:Simply AA Business Meeting
DESCRIPTION:
URL:https://cviaa.org/aa/event/simply-aa-business-meeting/2028-09-11/
LOCATION:Salvation Army Salt Room\, 893 Lander Ave\, Turlock\, CA\, 95380\, United States
END:VEVENT
BEGIN:VEVENT
DTSTART;TZID=America/Los_Angeles:20280925T180000
DTEND;TZID=America/Los_Angeles:20280925T193000
DTSTAMP:20260420T064443
CREATED:20250716T055257Z
LAST-MODIFIED:20250716T055334Z
UID:10004670-1853517600-1853523000@cviaa.org
SUMMARY:Central Valley Intergroup Business Meeting
DESCRIPTION:
URL:https://cviaa.org/aa/event/central-valley-intergroup-business-meeting/2028-09-25/
LOCATION:Salvation Army Salt Room\, 893 Lander Ave\, Turlock\, CA\, 95380\, United States
END:VEVENT
BEGIN:VEVENT
DTSTART;TZID=America/Los_Angeles:20281009T183000
DTEND;TZID=America/Los_Angeles:20281009T193000
DTSTAMP:20260420T064443
CREATED:20260205T024622Z
LAST-MODIFIED:20260205T024622Z
UID:10004938-1854729000-1854732600@cviaa.org
SUMMARY:Simply AA Business Meeting
DESCRIPTION:
URL:https://cviaa.org/aa/event/simply-aa-business-meeting/2028-10-09/
LOCATION:Salvation Army Salt Room\, 893 Lander Ave\, Turlock\, CA\, 95380\, United States
END:VEVENT
BEGIN:VEVENT
DTSTART;TZID=America/Los_Angeles:20281023T180000
DTEND;TZID=America/Los_Angeles:20281023T193000
DTSTAMP:20260420T064443
CREATED:20250716T055257Z
LAST-MODIFIED:20250716T055334Z
UID:10004671-1855936800-1855942200@cviaa.org
SUMMARY:Central Valley Intergroup Business Meeting
DESCRIPTION:
URL:https://cviaa.org/aa/event/central-valley-intergroup-business-meeting/2028-10-23/
LOCATION:Salvation Army Salt Room\, 893 Lander Ave\, Turlock\, CA\, 95380\, United States
END:VEVENT
BEGIN:VEVENT
DTSTART;TZID=America/Los_Angeles:20281113T183000
DTEND;TZID=America/Los_Angeles:20281113T193000
DTSTAMP:20260420T064443
CREATED:20260205T024622Z
LAST-MODIFIED:20260205T024622Z
UID:10004939-1857753000-1857756600@cviaa.org
SUMMARY:Simply AA Business Meeting
DESCRIPTION:
URL:https://cviaa.org/aa/event/simply-aa-business-meeting/2028-11-13/
LOCATION:Salvation Army Salt Room\, 893 Lander Ave\, Turlock\, CA\, 95380\, United States
END:VEVENT
BEGIN:VEVENT
DTSTART;TZID=America/Los_Angeles:20281127T180000
DTEND;TZID=America/Los_Angeles:20281127T193000
DTSTAMP:20260420T064443
CREATED:20250716T055257Z
LAST-MODIFIED:20250716T055334Z
UID:10004672-1858960800-1858966200@cviaa.org
SUMMARY:Central Valley Intergroup Business Meeting
DESCRIPTION:
URL:https://cviaa.org/aa/event/central-valley-intergroup-business-meeting/2028-11-27/
LOCATION:Salvation Army Salt Room\, 893 Lander Ave\, Turlock\, CA\, 95380\, United States
END:VEVENT
BEGIN:VEVENT
DTSTART;TZID=America/Los_Angeles:20281211T183000
DTEND;TZID=America/Los_Angeles:20281211T193000
DTSTAMP:20260420T064443
CREATED:20260205T024622Z
LAST-MODIFIED:20260205T024622Z
UID:10004940-1860172200-1860175800@cviaa.org
SUMMARY:Simply AA Business Meeting
DESCRIPTION:
URL:https://cviaa.org/aa/event/simply-aa-business-meeting/2028-12-11/
LOCATION:Salvation Army Salt Room\, 893 Lander Ave\, Turlock\, CA\, 95380\, United States
END:VEVENT
BEGIN:VEVENT
DTSTART;TZID=America/Los_Angeles:20281225T180000
DTEND;TZID=America/Los_Angeles:20281225T193000
DTSTAMP:20260420T064443
CREATED:20250716T055257Z
LAST-MODIFIED:20250716T055334Z
UID:10004673-1861380000-1861385400@cviaa.org
SUMMARY:Central Valley Intergroup Business Meeting
DESCRIPTION:
URL:https://cviaa.org/aa/event/central-valley-intergroup-business-meeting/2028-12-25/
LOCATION:Salvation Army Salt Room\, 893 Lander Ave\, Turlock\, CA\, 95380\, United States
END:VEVENT
BEGIN:VEVENT
DTSTART;TZID=America/Los_Angeles:20290108T183000
DTEND;TZID=America/Los_Angeles:20290108T193000
DTSTAMP:20260420T064443
CREATED:20260205T024622Z
LAST-MODIFIED:20260205T024622Z
UID:10004941-1862591400-1862595000@cviaa.org
SUMMARY:Simply AA Business Meeting
DESCRIPTION:
URL:https://cviaa.org/aa/event/simply-aa-business-meeting/2029-01-08/
LOCATION:Salvation Army Salt Room\, 893 Lander Ave\, Turlock\, CA\, 95380\, United States
END:VEVENT
BEGIN:VEVENT
DTSTART;TZID=America/Los_Angeles:20290122T180000
DTEND;TZID=America/Los_Angeles:20290122T193000
DTSTAMP:20260420T064443
CREATED:20250716T055257Z
LAST-MODIFIED:20250716T055334Z
UID:10004674-1863799200-1863804600@cviaa.org
SUMMARY:Central Valley Intergroup Business Meeting
DESCRIPTION:
URL:https://cviaa.org/aa/event/central-valley-intergroup-business-meeting/2029-01-22/
LOCATION:Salvation Army Salt Room\, 893 Lander Ave\, Turlock\, CA\, 95380\, United States
END:VEVENT
BEGIN:VEVENT
DTSTART;TZID=America/Los_Angeles:20290212T183000
DTEND;TZID=America/Los_Angeles:20290212T193000
DTSTAMP:20260420T064443
CREATED:20260205T024622Z
LAST-MODIFIED:20260205T024622Z
UID:10004942-1865615400-1865619000@cviaa.org
SUMMARY:Simply AA Business Meeting
DESCRIPTION:
URL:https://cviaa.org/aa/event/simply-aa-business-meeting/2029-02-12/
LOCATION:Salvation Army Salt Room\, 893 Lander Ave\, Turlock\, CA\, 95380\, United States
END:VEVENT
BEGIN:VEVENT
DTSTART;TZID=America/Los_Angeles:20290226T180000
DTEND;TZID=America/Los_Angeles:20290226T193000
DTSTAMP:20260420T064443
CREATED:20250716T055257Z
LAST-MODIFIED:20250716T055334Z
UID:10004675-1866823200-1866828600@cviaa.org
SUMMARY:Central Valley Intergroup Business Meeting
DESCRIPTION:
URL:https://cviaa.org/aa/event/central-valley-intergroup-business-meeting/2029-02-26/
LOCATION:Salvation Army Salt Room\, 893 Lander Ave\, Turlock\, CA\, 95380\, United States
END:VEVENT
BEGIN:VEVENT
DTSTART;TZID=America/Los_Angeles:20290312T183000
DTEND;TZID=America/Los_Angeles:20290312T193000
DTSTAMP:20260420T064443
CREATED:20260205T024622Z
LAST-MODIFIED:20260205T024622Z
UID:10004943-1868034600-1868038200@cviaa.org
SUMMARY:Simply AA Business Meeting
DESCRIPTION:
URL:https://cviaa.org/aa/event/simply-aa-business-meeting/2029-03-12/
LOCATION:Salvation Army Salt Room\, 893 Lander Ave\, Turlock\, CA\, 95380\, United States
END:VEVENT
BEGIN:VEVENT
DTSTART;TZID=America/Los_Angeles:20290326T180000
DTEND;TZID=America/Los_Angeles:20290326T193000
DTSTAMP:20260420T064443
CREATED:20250716T055257Z
LAST-MODIFIED:20250716T055334Z
UID:10004676-1869242400-1869247800@cviaa.org
SUMMARY:Central Valley Intergroup Business Meeting
DESCRIPTION:
URL:https://cviaa.org/aa/event/central-valley-intergroup-business-meeting/2029-03-26/
LOCATION:Salvation Army Salt Room\, 893 Lander Ave\, Turlock\, CA\, 95380\, United States
END:VEVENT
BEGIN:VEVENT
DTSTART;TZID=America/Los_Angeles:20290409T183000
DTEND;TZID=America/Los_Angeles:20290409T193000
DTSTAMP:20260420T064443
CREATED:20260205T024622Z
LAST-MODIFIED:20260205T024622Z
UID:10004944-1870453800-1870457400@cviaa.org
SUMMARY:Simply AA Business Meeting
DESCRIPTION:
URL:https://cviaa.org/aa/event/simply-aa-business-meeting/2029-04-09/
LOCATION:Salvation Army Salt Room\, 893 Lander Ave\, Turlock\, CA\, 95380\, United States
END:VEVENT
BEGIN:VEVENT
DTSTART;TZID=America/Los_Angeles:20290423T180000
DTEND;TZID=America/Los_Angeles:20290423T193000
DTSTAMP:20260420T064443
CREATED:20250716T055257Z
LAST-MODIFIED:20250716T055334Z
UID:10004677-1871661600-1871667000@cviaa.org
SUMMARY:Central Valley Intergroup Business Meeting
DESCRIPTION:
URL:https://cviaa.org/aa/event/central-valley-intergroup-business-meeting/2029-04-23/
LOCATION:Salvation Army Salt Room\, 893 Lander Ave\, Turlock\, CA\, 95380\, United States
END:VEVENT
END:VCALENDAR