BEGIN:VCALENDAR
VERSION:2.0
PRODID:-// - ECPv6.15.20//NONSGML v1.0//EN
CALSCALE:GREGORIAN
METHOD:PUBLISH
X-ORIGINAL-URL:https://cviaa.org/aa
X-WR-CALDESC:Events for 
REFRESH-INTERVAL;VALUE=DURATION:PT1H
X-Robots-Tag:noindex
X-PUBLISHED-TTL:PT1H
BEGIN:VTIMEZONE
TZID:America/Los_Angeles
BEGIN:DAYLIGHT
TZOFFSETFROM:-0800
TZOFFSETTO:-0700
TZNAME:PDT
DTSTART:20250309T100000
END:DAYLIGHT
BEGIN:STANDARD
TZOFFSETFROM:-0700
TZOFFSETTO:-0800
TZNAME:PST
DTSTART:20251102T090000
END:STANDARD
BEGIN:DAYLIGHT
TZOFFSETFROM:-0800
TZOFFSETTO:-0700
TZNAME:PDT
DTSTART:20260308T100000
END:DAYLIGHT
BEGIN:STANDARD
TZOFFSETFROM:-0700
TZOFFSETTO:-0800
TZNAME:PST
DTSTART:20261101T090000
END:STANDARD
BEGIN:DAYLIGHT
TZOFFSETFROM:-0800
TZOFFSETTO:-0700
TZNAME:PDT
DTSTART:20270314T100000
END:DAYLIGHT
BEGIN:STANDARD
TZOFFSETFROM:-0700
TZOFFSETTO:-0800
TZNAME:PST
DTSTART:20271107T090000
END:STANDARD
BEGIN:DAYLIGHT
TZOFFSETFROM:-0800
TZOFFSETTO:-0700
TZNAME:PDT
DTSTART:20280312T100000
END:DAYLIGHT
BEGIN:STANDARD
TZOFFSETFROM:-0700
TZOFFSETTO:-0800
TZNAME:PST
DTSTART:20281105T090000
END:STANDARD
END:VTIMEZONE
BEGIN:VEVENT
DTSTART;TZID=America/Los_Angeles:20261228T180000
DTEND;TZID=America/Los_Angeles:20261228T193000
DTSTAMP:20260419T153258
CREATED:20250716T055257Z
LAST-MODIFIED:20250716T055334Z
UID:10004649-1798480800-1798486200@cviaa.org
SUMMARY:Central Valley Intergroup Business Meeting
DESCRIPTION:
URL:https://cviaa.org/aa/event/central-valley-intergroup-business-meeting/2026-12-28/
LOCATION:Salvation Army Salt Room\, 893 Lander Ave\, Turlock\, CA\, 95380\, United States
END:VEVENT
BEGIN:VEVENT
DTSTART;TZID=America/Los_Angeles:20270103T110000
DTEND;TZID=America/Los_Angeles:20270103T120000
DTSTAMP:20260419T153258
CREATED:20251107T180342Z
LAST-MODIFIED:20251107T180342Z
UID:10004815-1798974000-1798977600@cviaa.org
SUMMARY:Turlock Unity Day Planning Meeting
DESCRIPTION:2026 Unity Day Planning Meetings
URL:https://cviaa.org/aa/event/turlock-unity-day-planning-meeting-6/2027-01-03/
LOCATION:Salvation Army Salt Room\, 893 Lander Ave\, Turlock\, CA\, 95380\, United States
END:VEVENT
BEGIN:VEVENT
DTSTART;TZID=America/Los_Angeles:20270109T173000
DTEND;TZID=America/Los_Angeles:20270109T193000
DTSTAMP:20260419T153258
CREATED:20230922T141320Z
LAST-MODIFIED:20230922T141357Z
UID:10002650-1799515800-1799523000@cviaa.org
SUMMARY:Simply AA Birthday Speaker meeting
DESCRIPTION:Potluck at 5:30 PM\nSpeaker at 6:30 PM
URL:https://cviaa.org/aa/event/simply-aa-birthday-speaker-meeting-2/2027-01-09/
LOCATION:Salvation Army Salt Room\, 893 Lander Ave\, Turlock\, CA\, 95380\, United States
END:VEVENT
BEGIN:VEVENT
DTSTART;TZID=America/Los_Angeles:20270110T110000
DTEND;TZID=America/Los_Angeles:20270110T120000
DTSTAMP:20260419T153258
CREATED:20251107T180342Z
LAST-MODIFIED:20251107T180342Z
UID:10004816-1799578800-1799582400@cviaa.org
SUMMARY:Turlock Unity Day Planning Meeting
DESCRIPTION:2026 Unity Day Planning Meetings
URL:https://cviaa.org/aa/event/turlock-unity-day-planning-meeting-6/2027-01-10/
LOCATION:Salvation Army Salt Room\, 893 Lander Ave\, Turlock\, CA\, 95380\, United States
END:VEVENT
BEGIN:VEVENT
DTSTART;TZID=America/Los_Angeles:20270111T183000
DTEND;TZID=America/Los_Angeles:20270111T193000
DTSTAMP:20260419T153258
CREATED:20260205T024622Z
LAST-MODIFIED:20260205T024622Z
UID:10004917-1799692200-1799695800@cviaa.org
SUMMARY:Simply AA Business Meeting
DESCRIPTION:
URL:https://cviaa.org/aa/event/simply-aa-business-meeting/2027-01-11/
LOCATION:Salvation Army Salt Room\, 893 Lander Ave\, Turlock\, CA\, 95380\, United States
END:VEVENT
BEGIN:VEVENT
DTSTART;TZID=America/Los_Angeles:20270117T110000
DTEND;TZID=America/Los_Angeles:20270117T120000
DTSTAMP:20260419T153258
CREATED:20251107T180342Z
LAST-MODIFIED:20251107T180342Z
UID:10004817-1800183600-1800187200@cviaa.org
SUMMARY:Turlock Unity Day Planning Meeting
DESCRIPTION:2026 Unity Day Planning Meetings
URL:https://cviaa.org/aa/event/turlock-unity-day-planning-meeting-6/2027-01-17/
LOCATION:Salvation Army Salt Room\, 893 Lander Ave\, Turlock\, CA\, 95380\, United States
END:VEVENT
BEGIN:VEVENT
DTSTART;TZID=America/Los_Angeles:20270124T110000
DTEND;TZID=America/Los_Angeles:20270124T120000
DTSTAMP:20260419T153258
CREATED:20251107T180342Z
LAST-MODIFIED:20251107T180342Z
UID:10004818-1800788400-1800792000@cviaa.org
SUMMARY:Turlock Unity Day Planning Meeting
DESCRIPTION:2026 Unity Day Planning Meetings
URL:https://cviaa.org/aa/event/turlock-unity-day-planning-meeting-6/2027-01-24/
LOCATION:Salvation Army Salt Room\, 893 Lander Ave\, Turlock\, CA\, 95380\, United States
END:VEVENT
BEGIN:VEVENT
DTSTART;TZID=America/Los_Angeles:20270125T180000
DTEND;TZID=America/Los_Angeles:20270125T193000
DTSTAMP:20260419T153258
CREATED:20250716T055257Z
LAST-MODIFIED:20250716T055334Z
UID:10004650-1800900000-1800905400@cviaa.org
SUMMARY:Central Valley Intergroup Business Meeting
DESCRIPTION:
URL:https://cviaa.org/aa/event/central-valley-intergroup-business-meeting/2027-01-25/
LOCATION:Salvation Army Salt Room\, 893 Lander Ave\, Turlock\, CA\, 95380\, United States
END:VEVENT
BEGIN:VEVENT
DTSTART;TZID=America/Los_Angeles:20270131T110000
DTEND;TZID=America/Los_Angeles:20270131T120000
DTSTAMP:20260419T153258
CREATED:20251107T180342Z
LAST-MODIFIED:20251107T180342Z
UID:10004819-1801393200-1801396800@cviaa.org
SUMMARY:Turlock Unity Day Planning Meeting
DESCRIPTION:2026 Unity Day Planning Meetings
URL:https://cviaa.org/aa/event/turlock-unity-day-planning-meeting-6/2027-01-31/
LOCATION:Salvation Army Salt Room\, 893 Lander Ave\, Turlock\, CA\, 95380\, United States
END:VEVENT
BEGIN:VEVENT
DTSTART;TZID=America/Los_Angeles:20270207T110000
DTEND;TZID=America/Los_Angeles:20270207T120000
DTSTAMP:20260419T153258
CREATED:20251107T180342Z
LAST-MODIFIED:20251107T180342Z
UID:10004820-1801998000-1802001600@cviaa.org
SUMMARY:Turlock Unity Day Planning Meeting
DESCRIPTION:2026 Unity Day Planning Meetings
URL:https://cviaa.org/aa/event/turlock-unity-day-planning-meeting-6/2027-02-07/
LOCATION:Salvation Army Salt Room\, 893 Lander Ave\, Turlock\, CA\, 95380\, United States
END:VEVENT
BEGIN:VEVENT
DTSTART;TZID=America/Los_Angeles:20270208T183000
DTEND;TZID=America/Los_Angeles:20270208T193000
DTSTAMP:20260419T153258
CREATED:20260205T024622Z
LAST-MODIFIED:20260205T024622Z
UID:10004918-1802111400-1802115000@cviaa.org
SUMMARY:Simply AA Business Meeting
DESCRIPTION:
URL:https://cviaa.org/aa/event/simply-aa-business-meeting/2027-02-08/
LOCATION:Salvation Army Salt Room\, 893 Lander Ave\, Turlock\, CA\, 95380\, United States
END:VEVENT
BEGIN:VEVENT
DTSTART;TZID=America/Los_Angeles:20270213T173000
DTEND;TZID=America/Los_Angeles:20270213T193000
DTSTAMP:20260419T153258
CREATED:20230922T141320Z
LAST-MODIFIED:20230922T141357Z
UID:10002651-1802539800-1802547000@cviaa.org
SUMMARY:Simply AA Birthday Speaker meeting
DESCRIPTION:Potluck at 5:30 PM\nSpeaker at 6:30 PM
URL:https://cviaa.org/aa/event/simply-aa-birthday-speaker-meeting-2/2027-02-13/
LOCATION:Salvation Army Salt Room\, 893 Lander Ave\, Turlock\, CA\, 95380\, United States
END:VEVENT
BEGIN:VEVENT
DTSTART;TZID=America/Los_Angeles:20270214T110000
DTEND;TZID=America/Los_Angeles:20270214T120000
DTSTAMP:20260419T153258
CREATED:20251107T180342Z
LAST-MODIFIED:20251107T180342Z
UID:10004821-1802602800-1802606400@cviaa.org
SUMMARY:Turlock Unity Day Planning Meeting
DESCRIPTION:2026 Unity Day Planning Meetings
URL:https://cviaa.org/aa/event/turlock-unity-day-planning-meeting-6/2027-02-14/
LOCATION:Salvation Army Salt Room\, 893 Lander Ave\, Turlock\, CA\, 95380\, United States
END:VEVENT
BEGIN:VEVENT
DTSTART;TZID=America/Los_Angeles:20270221T110000
DTEND;TZID=America/Los_Angeles:20270221T120000
DTSTAMP:20260419T153258
CREATED:20251107T180342Z
LAST-MODIFIED:20251107T180342Z
UID:10004822-1803207600-1803211200@cviaa.org
SUMMARY:Turlock Unity Day Planning Meeting
DESCRIPTION:2026 Unity Day Planning Meetings
URL:https://cviaa.org/aa/event/turlock-unity-day-planning-meeting-6/2027-02-21/
LOCATION:Salvation Army Salt Room\, 893 Lander Ave\, Turlock\, CA\, 95380\, United States
END:VEVENT
BEGIN:VEVENT
DTSTART;TZID=America/Los_Angeles:20270222T180000
DTEND;TZID=America/Los_Angeles:20270222T193000
DTSTAMP:20260419T153258
CREATED:20250716T055257Z
LAST-MODIFIED:20250716T055334Z
UID:10004651-1803319200-1803324600@cviaa.org
SUMMARY:Central Valley Intergroup Business Meeting
DESCRIPTION:
URL:https://cviaa.org/aa/event/central-valley-intergroup-business-meeting/2027-02-22/
LOCATION:Salvation Army Salt Room\, 893 Lander Ave\, Turlock\, CA\, 95380\, United States
END:VEVENT
BEGIN:VEVENT
DTSTART;TZID=America/Los_Angeles:20270228T110000
DTEND;TZID=America/Los_Angeles:20270228T120000
DTSTAMP:20260419T153258
CREATED:20251107T180342Z
LAST-MODIFIED:20251107T180342Z
UID:10004823-1803812400-1803816000@cviaa.org
SUMMARY:Turlock Unity Day Planning Meeting
DESCRIPTION:2026 Unity Day Planning Meetings
URL:https://cviaa.org/aa/event/turlock-unity-day-planning-meeting-6/2027-02-28/
LOCATION:Salvation Army Salt Room\, 893 Lander Ave\, Turlock\, CA\, 95380\, United States
END:VEVENT
BEGIN:VEVENT
DTSTART;TZID=America/Los_Angeles:20270307T110000
DTEND;TZID=America/Los_Angeles:20270307T120000
DTSTAMP:20260419T153258
CREATED:20251107T180342Z
LAST-MODIFIED:20251107T180342Z
UID:10004824-1804417200-1804420800@cviaa.org
SUMMARY:Turlock Unity Day Planning Meeting
DESCRIPTION:2026 Unity Day Planning Meetings
URL:https://cviaa.org/aa/event/turlock-unity-day-planning-meeting-6/2027-03-07/
LOCATION:Salvation Army Salt Room\, 893 Lander Ave\, Turlock\, CA\, 95380\, United States
END:VEVENT
BEGIN:VEVENT
DTSTART;TZID=America/Los_Angeles:20270308T183000
DTEND;TZID=America/Los_Angeles:20270308T193000
DTSTAMP:20260419T153258
CREATED:20260205T024622Z
LAST-MODIFIED:20260205T024622Z
UID:10004919-1804530600-1804534200@cviaa.org
SUMMARY:Simply AA Business Meeting
DESCRIPTION:
URL:https://cviaa.org/aa/event/simply-aa-business-meeting/2027-03-08/
LOCATION:Salvation Army Salt Room\, 893 Lander Ave\, Turlock\, CA\, 95380\, United States
END:VEVENT
BEGIN:VEVENT
DTSTART;TZID=America/Los_Angeles:20270313T173000
DTEND;TZID=America/Los_Angeles:20270313T193000
DTSTAMP:20260419T153258
CREATED:20230922T141320Z
LAST-MODIFIED:20230922T141357Z
UID:10002652-1804959000-1804966200@cviaa.org
SUMMARY:Simply AA Birthday Speaker meeting
DESCRIPTION:Potluck at 5:30 PM\nSpeaker at 6:30 PM
URL:https://cviaa.org/aa/event/simply-aa-birthday-speaker-meeting-2/2027-03-13/
LOCATION:Salvation Army Salt Room\, 893 Lander Ave\, Turlock\, CA\, 95380\, United States
END:VEVENT
BEGIN:VEVENT
DTSTART;TZID=America/Los_Angeles:20270314T110000
DTEND;TZID=America/Los_Angeles:20270314T120000
DTSTAMP:20260419T153258
CREATED:20251107T180342Z
LAST-MODIFIED:20251107T180342Z
UID:10004825-1805022000-1805025600@cviaa.org
SUMMARY:Turlock Unity Day Planning Meeting
DESCRIPTION:2026 Unity Day Planning Meetings
URL:https://cviaa.org/aa/event/turlock-unity-day-planning-meeting-6/2027-03-14/
LOCATION:Salvation Army Salt Room\, 893 Lander Ave\, Turlock\, CA\, 95380\, United States
END:VEVENT
BEGIN:VEVENT
DTSTART;TZID=America/Los_Angeles:20270321T110000
DTEND;TZID=America/Los_Angeles:20270321T120000
DTSTAMP:20260419T153258
CREATED:20251107T180342Z
LAST-MODIFIED:20251107T180342Z
UID:10004826-1805626800-1805630400@cviaa.org
SUMMARY:Turlock Unity Day Planning Meeting
DESCRIPTION:2026 Unity Day Planning Meetings
URL:https://cviaa.org/aa/event/turlock-unity-day-planning-meeting-6/2027-03-21/
LOCATION:Salvation Army Salt Room\, 893 Lander Ave\, Turlock\, CA\, 95380\, United States
END:VEVENT
BEGIN:VEVENT
DTSTART;TZID=America/Los_Angeles:20270322T180000
DTEND;TZID=America/Los_Angeles:20270322T193000
DTSTAMP:20260419T153258
CREATED:20250716T055257Z
LAST-MODIFIED:20250716T055334Z
UID:10004652-1805738400-1805743800@cviaa.org
SUMMARY:Central Valley Intergroup Business Meeting
DESCRIPTION:
URL:https://cviaa.org/aa/event/central-valley-intergroup-business-meeting/2027-03-22/
LOCATION:Salvation Army Salt Room\, 893 Lander Ave\, Turlock\, CA\, 95380\, United States
END:VEVENT
BEGIN:VEVENT
DTSTART;TZID=America/Los_Angeles:20270410T173000
DTEND;TZID=America/Los_Angeles:20270410T193000
DTSTAMP:20260419T153258
CREATED:20230922T141320Z
LAST-MODIFIED:20230922T141357Z
UID:10002653-1807378200-1807385400@cviaa.org
SUMMARY:Simply AA Birthday Speaker meeting
DESCRIPTION:Potluck at 5:30 PM\nSpeaker at 6:30 PM
URL:https://cviaa.org/aa/event/simply-aa-birthday-speaker-meeting-2/2027-04-10/
LOCATION:Salvation Army Salt Room\, 893 Lander Ave\, Turlock\, CA\, 95380\, United States
END:VEVENT
BEGIN:VEVENT
DTSTART;TZID=America/Los_Angeles:20270412T183000
DTEND;TZID=America/Los_Angeles:20270412T193000
DTSTAMP:20260419T153258
CREATED:20260205T024622Z
LAST-MODIFIED:20260205T024622Z
UID:10004920-1807554600-1807558200@cviaa.org
SUMMARY:Simply AA Business Meeting
DESCRIPTION:
URL:https://cviaa.org/aa/event/simply-aa-business-meeting/2027-04-12/
LOCATION:Salvation Army Salt Room\, 893 Lander Ave\, Turlock\, CA\, 95380\, United States
END:VEVENT
BEGIN:VEVENT
DTSTART;TZID=America/Los_Angeles:20270426T180000
DTEND;TZID=America/Los_Angeles:20270426T193000
DTSTAMP:20260419T153258
CREATED:20250716T055257Z
LAST-MODIFIED:20250716T055334Z
UID:10004653-1808762400-1808767800@cviaa.org
SUMMARY:Central Valley Intergroup Business Meeting
DESCRIPTION:
URL:https://cviaa.org/aa/event/central-valley-intergroup-business-meeting/2027-04-26/
LOCATION:Salvation Army Salt Room\, 893 Lander Ave\, Turlock\, CA\, 95380\, United States
END:VEVENT
BEGIN:VEVENT
DTSTART;TZID=America/Los_Angeles:20270508T173000
DTEND;TZID=America/Los_Angeles:20270508T193000
DTSTAMP:20260419T153258
CREATED:20230922T141320Z
LAST-MODIFIED:20230922T141357Z
UID:10002654-1809797400-1809804600@cviaa.org
SUMMARY:Simply AA Birthday Speaker meeting
DESCRIPTION:Potluck at 5:30 PM\nSpeaker at 6:30 PM
URL:https://cviaa.org/aa/event/simply-aa-birthday-speaker-meeting-2/2027-05-08/
LOCATION:Salvation Army Salt Room\, 893 Lander Ave\, Turlock\, CA\, 95380\, United States
END:VEVENT
BEGIN:VEVENT
DTSTART;TZID=America/Los_Angeles:20270510T183000
DTEND;TZID=America/Los_Angeles:20270510T193000
DTSTAMP:20260419T153258
CREATED:20260205T024622Z
LAST-MODIFIED:20260205T024622Z
UID:10004921-1809973800-1809977400@cviaa.org
SUMMARY:Simply AA Business Meeting
DESCRIPTION:
URL:https://cviaa.org/aa/event/simply-aa-business-meeting/2027-05-10/
LOCATION:Salvation Army Salt Room\, 893 Lander Ave\, Turlock\, CA\, 95380\, United States
END:VEVENT
BEGIN:VEVENT
DTSTART;TZID=America/Los_Angeles:20270524T180000
DTEND;TZID=America/Los_Angeles:20270524T193000
DTSTAMP:20260419T153258
CREATED:20250716T055257Z
LAST-MODIFIED:20250716T055334Z
UID:10004654-1811181600-1811187000@cviaa.org
SUMMARY:Central Valley Intergroup Business Meeting
DESCRIPTION:
URL:https://cviaa.org/aa/event/central-valley-intergroup-business-meeting/2027-05-24/
LOCATION:Salvation Army Salt Room\, 893 Lander Ave\, Turlock\, CA\, 95380\, United States
END:VEVENT
BEGIN:VEVENT
DTSTART;TZID=America/Los_Angeles:20270612T173000
DTEND;TZID=America/Los_Angeles:20270612T193000
DTSTAMP:20260419T153258
CREATED:20230922T141320Z
LAST-MODIFIED:20230922T141357Z
UID:10002655-1812821400-1812828600@cviaa.org
SUMMARY:Simply AA Birthday Speaker meeting
DESCRIPTION:Potluck at 5:30 PM\nSpeaker at 6:30 PM
URL:https://cviaa.org/aa/event/simply-aa-birthday-speaker-meeting-2/2027-06-12/
LOCATION:Salvation Army Salt Room\, 893 Lander Ave\, Turlock\, CA\, 95380\, United States
END:VEVENT
BEGIN:VEVENT
DTSTART;TZID=America/Los_Angeles:20270614T183000
DTEND;TZID=America/Los_Angeles:20270614T193000
DTSTAMP:20260419T153258
CREATED:20260205T024622Z
LAST-MODIFIED:20260205T024622Z
UID:10004922-1812997800-1813001400@cviaa.org
SUMMARY:Simply AA Business Meeting
DESCRIPTION:
URL:https://cviaa.org/aa/event/simply-aa-business-meeting/2027-06-14/
LOCATION:Salvation Army Salt Room\, 893 Lander Ave\, Turlock\, CA\, 95380\, United States
END:VEVENT
END:VCALENDAR