BEGIN:VCALENDAR
VERSION:2.0
PRODID:-// - ECPv6.15.20//NONSGML v1.0//EN
CALSCALE:GREGORIAN
METHOD:PUBLISH
X-ORIGINAL-URL:https://cviaa.org/aa
X-WR-CALDESC:Events for 
REFRESH-INTERVAL;VALUE=DURATION:PT1H
X-Robots-Tag:noindex
X-PUBLISHED-TTL:PT1H
BEGIN:VTIMEZONE
TZID:America/Los_Angeles
BEGIN:DAYLIGHT
TZOFFSETFROM:-0800
TZOFFSETTO:-0700
TZNAME:PDT
DTSTART:20260308T100000
END:DAYLIGHT
BEGIN:STANDARD
TZOFFSETFROM:-0700
TZOFFSETTO:-0800
TZNAME:PST
DTSTART:20261101T090000
END:STANDARD
BEGIN:DAYLIGHT
TZOFFSETFROM:-0800
TZOFFSETTO:-0700
TZNAME:PDT
DTSTART:20270314T100000
END:DAYLIGHT
BEGIN:STANDARD
TZOFFSETFROM:-0700
TZOFFSETTO:-0800
TZNAME:PST
DTSTART:20271107T090000
END:STANDARD
BEGIN:DAYLIGHT
TZOFFSETFROM:-0800
TZOFFSETTO:-0700
TZNAME:PDT
DTSTART:20280312T100000
END:DAYLIGHT
BEGIN:STANDARD
TZOFFSETFROM:-0700
TZOFFSETTO:-0800
TZNAME:PST
DTSTART:20281105T090000
END:STANDARD
BEGIN:DAYLIGHT
TZOFFSETFROM:-0800
TZOFFSETTO:-0700
TZNAME:PDT
DTSTART:20290311T100000
END:DAYLIGHT
BEGIN:STANDARD
TZOFFSETFROM:-0700
TZOFFSETTO:-0800
TZNAME:PST
DTSTART:20291104T090000
END:STANDARD
END:VTIMEZONE
BEGIN:VEVENT
DTSTART;TZID=America/Los_Angeles:20270823T180000
DTEND;TZID=America/Los_Angeles:20270823T193000
DTSTAMP:20260419T221503
CREATED:20250716T055257Z
LAST-MODIFIED:20250716T055334Z
UID:10004657-1819044000-1819049400@cviaa.org
SUMMARY:Central Valley Intergroup Business Meeting
DESCRIPTION:
URL:https://cviaa.org/aa/event/central-valley-intergroup-business-meeting/2027-08-23/
LOCATION:Salvation Army Salt Room\, 893 Lander Ave\, Turlock\, CA\, 95380\, United States
END:VEVENT
BEGIN:VEVENT
DTSTART;TZID=America/Los_Angeles:20270911T173000
DTEND;TZID=America/Los_Angeles:20270911T193000
DTSTAMP:20260419T221503
CREATED:20230922T141320Z
LAST-MODIFIED:20230922T141357Z
UID:10002658-1820683800-1820691000@cviaa.org
SUMMARY:Simply AA Birthday Speaker meeting
DESCRIPTION:Potluck at 5:30 PM\nSpeaker at 6:30 PM
URL:https://cviaa.org/aa/event/simply-aa-birthday-speaker-meeting-2/2027-09-11/
LOCATION:Salvation Army Salt Room\, 893 Lander Ave\, Turlock\, CA\, 95380\, United States
END:VEVENT
BEGIN:VEVENT
DTSTART;TZID=America/Los_Angeles:20270913T183000
DTEND;TZID=America/Los_Angeles:20270913T193000
DTSTAMP:20260419T221503
CREATED:20260205T024622Z
LAST-MODIFIED:20260205T024622Z
UID:10004925-1820860200-1820863800@cviaa.org
SUMMARY:Simply AA Business Meeting
DESCRIPTION:
URL:https://cviaa.org/aa/event/simply-aa-business-meeting/2027-09-13/
LOCATION:Salvation Army Salt Room\, 893 Lander Ave\, Turlock\, CA\, 95380\, United States
END:VEVENT
BEGIN:VEVENT
DTSTART;TZID=America/Los_Angeles:20270927T180000
DTEND;TZID=America/Los_Angeles:20270927T193000
DTSTAMP:20260419T221503
CREATED:20250716T055257Z
LAST-MODIFIED:20250716T055334Z
UID:10004658-1822068000-1822073400@cviaa.org
SUMMARY:Central Valley Intergroup Business Meeting
DESCRIPTION:
URL:https://cviaa.org/aa/event/central-valley-intergroup-business-meeting/2027-09-27/
LOCATION:Salvation Army Salt Room\, 893 Lander Ave\, Turlock\, CA\, 95380\, United States
END:VEVENT
BEGIN:VEVENT
DTSTART;TZID=America/Los_Angeles:20271009T173000
DTEND;TZID=America/Los_Angeles:20271009T193000
DTSTAMP:20260419T221503
CREATED:20230922T141320Z
LAST-MODIFIED:20230922T141357Z
UID:10002659-1823103000-1823110200@cviaa.org
SUMMARY:Simply AA Birthday Speaker meeting
DESCRIPTION:Potluck at 5:30 PM\nSpeaker at 6:30 PM
URL:https://cviaa.org/aa/event/simply-aa-birthday-speaker-meeting-2/2027-10-09/
LOCATION:Salvation Army Salt Room\, 893 Lander Ave\, Turlock\, CA\, 95380\, United States
END:VEVENT
BEGIN:VEVENT
DTSTART;TZID=America/Los_Angeles:20271011T183000
DTEND;TZID=America/Los_Angeles:20271011T193000
DTSTAMP:20260419T221503
CREATED:20260205T024622Z
LAST-MODIFIED:20260205T024622Z
UID:10004926-1823279400-1823283000@cviaa.org
SUMMARY:Simply AA Business Meeting
DESCRIPTION:
URL:https://cviaa.org/aa/event/simply-aa-business-meeting/2027-10-11/
LOCATION:Salvation Army Salt Room\, 893 Lander Ave\, Turlock\, CA\, 95380\, United States
END:VEVENT
BEGIN:VEVENT
DTSTART;TZID=America/Los_Angeles:20271025T180000
DTEND;TZID=America/Los_Angeles:20271025T193000
DTSTAMP:20260419T221503
CREATED:20250716T055257Z
LAST-MODIFIED:20250716T055334Z
UID:10004659-1824487200-1824492600@cviaa.org
SUMMARY:Central Valley Intergroup Business Meeting
DESCRIPTION:
URL:https://cviaa.org/aa/event/central-valley-intergroup-business-meeting/2027-10-25/
LOCATION:Salvation Army Salt Room\, 893 Lander Ave\, Turlock\, CA\, 95380\, United States
END:VEVENT
BEGIN:VEVENT
DTSTART;TZID=America/Los_Angeles:20271108T183000
DTEND;TZID=America/Los_Angeles:20271108T193000
DTSTAMP:20260419T221503
CREATED:20260205T024622Z
LAST-MODIFIED:20260205T024622Z
UID:10004927-1825698600-1825702200@cviaa.org
SUMMARY:Simply AA Business Meeting
DESCRIPTION:
URL:https://cviaa.org/aa/event/simply-aa-business-meeting/2027-11-08/
LOCATION:Salvation Army Salt Room\, 893 Lander Ave\, Turlock\, CA\, 95380\, United States
END:VEVENT
BEGIN:VEVENT
DTSTART;TZID=America/Los_Angeles:20271113T173000
DTEND;TZID=America/Los_Angeles:20271113T193000
DTSTAMP:20260419T221503
CREATED:20230922T141320Z
LAST-MODIFIED:20230922T141357Z
UID:10002660-1826127000-1826134200@cviaa.org
SUMMARY:Simply AA Birthday Speaker meeting
DESCRIPTION:Potluck at 5:30 PM\nSpeaker at 6:30 PM
URL:https://cviaa.org/aa/event/simply-aa-birthday-speaker-meeting-2/2027-11-13/
LOCATION:Salvation Army Salt Room\, 893 Lander Ave\, Turlock\, CA\, 95380\, United States
END:VEVENT
BEGIN:VEVENT
DTSTART;TZID=America/Los_Angeles:20271122T180000
DTEND;TZID=America/Los_Angeles:20271122T193000
DTSTAMP:20260419T221503
CREATED:20250716T055257Z
LAST-MODIFIED:20250716T055334Z
UID:10004660-1826906400-1826911800@cviaa.org
SUMMARY:Central Valley Intergroup Business Meeting
DESCRIPTION:
URL:https://cviaa.org/aa/event/central-valley-intergroup-business-meeting/2027-11-22/
LOCATION:Salvation Army Salt Room\, 893 Lander Ave\, Turlock\, CA\, 95380\, United States
END:VEVENT
BEGIN:VEVENT
DTSTART;TZID=America/Los_Angeles:20271211T173000
DTEND;TZID=America/Los_Angeles:20271211T193000
DTSTAMP:20260419T221503
CREATED:20230922T141320Z
LAST-MODIFIED:20230922T141357Z
UID:10002661-1828546200-1828553400@cviaa.org
SUMMARY:Simply AA Birthday Speaker meeting
DESCRIPTION:Potluck at 5:30 PM\nSpeaker at 6:30 PM
URL:https://cviaa.org/aa/event/simply-aa-birthday-speaker-meeting-2/2027-12-11/
LOCATION:Salvation Army Salt Room\, 893 Lander Ave\, Turlock\, CA\, 95380\, United States
END:VEVENT
BEGIN:VEVENT
DTSTART;TZID=America/Los_Angeles:20271213T183000
DTEND;TZID=America/Los_Angeles:20271213T193000
DTSTAMP:20260419T221503
CREATED:20260205T024622Z
LAST-MODIFIED:20260205T024622Z
UID:10004928-1828722600-1828726200@cviaa.org
SUMMARY:Simply AA Business Meeting
DESCRIPTION:
URL:https://cviaa.org/aa/event/simply-aa-business-meeting/2027-12-13/
LOCATION:Salvation Army Salt Room\, 893 Lander Ave\, Turlock\, CA\, 95380\, United States
END:VEVENT
BEGIN:VEVENT
DTSTART;TZID=America/Los_Angeles:20271227T180000
DTEND;TZID=America/Los_Angeles:20271227T193000
DTSTAMP:20260419T221503
CREATED:20250716T055257Z
LAST-MODIFIED:20250716T055334Z
UID:10004661-1829930400-1829935800@cviaa.org
SUMMARY:Central Valley Intergroup Business Meeting
DESCRIPTION:
URL:https://cviaa.org/aa/event/central-valley-intergroup-business-meeting/2027-12-27/
LOCATION:Salvation Army Salt Room\, 893 Lander Ave\, Turlock\, CA\, 95380\, United States
END:VEVENT
BEGIN:VEVENT
DTSTART;TZID=America/Los_Angeles:20280108T173000
DTEND;TZID=America/Los_Angeles:20280108T193000
DTSTAMP:20260419T221503
CREATED:20230922T141320Z
LAST-MODIFIED:20230922T141357Z
UID:10002662-1830965400-1830972600@cviaa.org
SUMMARY:Simply AA Birthday Speaker meeting
DESCRIPTION:Potluck at 5:30 PM\nSpeaker at 6:30 PM
URL:https://cviaa.org/aa/event/simply-aa-birthday-speaker-meeting-2/2028-01-08/
LOCATION:Salvation Army Salt Room\, 893 Lander Ave\, Turlock\, CA\, 95380\, United States
END:VEVENT
BEGIN:VEVENT
DTSTART;TZID=America/Los_Angeles:20280110T183000
DTEND;TZID=America/Los_Angeles:20280110T193000
DTSTAMP:20260419T221503
CREATED:20260205T024622Z
LAST-MODIFIED:20260205T024622Z
UID:10004929-1831141800-1831145400@cviaa.org
SUMMARY:Simply AA Business Meeting
DESCRIPTION:
URL:https://cviaa.org/aa/event/simply-aa-business-meeting/2028-01-10/
LOCATION:Salvation Army Salt Room\, 893 Lander Ave\, Turlock\, CA\, 95380\, United States
END:VEVENT
BEGIN:VEVENT
DTSTART;TZID=America/Los_Angeles:20280124T180000
DTEND;TZID=America/Los_Angeles:20280124T193000
DTSTAMP:20260419T221503
CREATED:20250716T055257Z
LAST-MODIFIED:20250716T055334Z
UID:10004662-1832349600-1832355000@cviaa.org
SUMMARY:Central Valley Intergroup Business Meeting
DESCRIPTION:
URL:https://cviaa.org/aa/event/central-valley-intergroup-business-meeting/2028-01-24/
LOCATION:Salvation Army Salt Room\, 893 Lander Ave\, Turlock\, CA\, 95380\, United States
END:VEVENT
BEGIN:VEVENT
DTSTART;TZID=America/Los_Angeles:20280212T173000
DTEND;TZID=America/Los_Angeles:20280212T193000
DTSTAMP:20260419T221503
CREATED:20230922T141320Z
LAST-MODIFIED:20230922T141357Z
UID:10002663-1833989400-1833996600@cviaa.org
SUMMARY:Simply AA Birthday Speaker meeting
DESCRIPTION:Potluck at 5:30 PM\nSpeaker at 6:30 PM
URL:https://cviaa.org/aa/event/simply-aa-birthday-speaker-meeting-2/2028-02-12/
LOCATION:Salvation Army Salt Room\, 893 Lander Ave\, Turlock\, CA\, 95380\, United States
END:VEVENT
BEGIN:VEVENT
DTSTART;TZID=America/Los_Angeles:20280214T183000
DTEND;TZID=America/Los_Angeles:20280214T193000
DTSTAMP:20260419T221503
CREATED:20260205T024622Z
LAST-MODIFIED:20260205T024622Z
UID:10004930-1834165800-1834169400@cviaa.org
SUMMARY:Simply AA Business Meeting
DESCRIPTION:
URL:https://cviaa.org/aa/event/simply-aa-business-meeting/2028-02-14/
LOCATION:Salvation Army Salt Room\, 893 Lander Ave\, Turlock\, CA\, 95380\, United States
END:VEVENT
BEGIN:VEVENT
DTSTART;TZID=America/Los_Angeles:20280228T180000
DTEND;TZID=America/Los_Angeles:20280228T193000
DTSTAMP:20260419T221503
CREATED:20250716T055257Z
LAST-MODIFIED:20250716T055334Z
UID:10004663-1835373600-1835379000@cviaa.org
SUMMARY:Central Valley Intergroup Business Meeting
DESCRIPTION:
URL:https://cviaa.org/aa/event/central-valley-intergroup-business-meeting/2028-02-28/
LOCATION:Salvation Army Salt Room\, 893 Lander Ave\, Turlock\, CA\, 95380\, United States
END:VEVENT
BEGIN:VEVENT
DTSTART;TZID=America/Los_Angeles:20280311T173000
DTEND;TZID=America/Los_Angeles:20280311T193000
DTSTAMP:20260419T221503
CREATED:20230922T141320Z
LAST-MODIFIED:20230922T141357Z
UID:10002664-1836408600-1836415800@cviaa.org
SUMMARY:Simply AA Birthday Speaker meeting
DESCRIPTION:Potluck at 5:30 PM\nSpeaker at 6:30 PM
URL:https://cviaa.org/aa/event/simply-aa-birthday-speaker-meeting-2/2028-03-11/
LOCATION:Salvation Army Salt Room\, 893 Lander Ave\, Turlock\, CA\, 95380\, United States
END:VEVENT
BEGIN:VEVENT
DTSTART;TZID=America/Los_Angeles:20280313T183000
DTEND;TZID=America/Los_Angeles:20280313T193000
DTSTAMP:20260419T221503
CREATED:20260205T024622Z
LAST-MODIFIED:20260205T024622Z
UID:10004931-1836585000-1836588600@cviaa.org
SUMMARY:Simply AA Business Meeting
DESCRIPTION:
URL:https://cviaa.org/aa/event/simply-aa-business-meeting/2028-03-13/
LOCATION:Salvation Army Salt Room\, 893 Lander Ave\, Turlock\, CA\, 95380\, United States
END:VEVENT
BEGIN:VEVENT
DTSTART;TZID=America/Los_Angeles:20280327T180000
DTEND;TZID=America/Los_Angeles:20280327T193000
DTSTAMP:20260419T221503
CREATED:20250716T055257Z
LAST-MODIFIED:20250716T055334Z
UID:10004664-1837792800-1837798200@cviaa.org
SUMMARY:Central Valley Intergroup Business Meeting
DESCRIPTION:
URL:https://cviaa.org/aa/event/central-valley-intergroup-business-meeting/2028-03-27/
LOCATION:Salvation Army Salt Room\, 893 Lander Ave\, Turlock\, CA\, 95380\, United States
END:VEVENT
BEGIN:VEVENT
DTSTART;TZID=America/Los_Angeles:20280408T173000
DTEND;TZID=America/Los_Angeles:20280408T193000
DTSTAMP:20260419T221503
CREATED:20230922T141320Z
LAST-MODIFIED:20230922T141357Z
UID:10002665-1838827800-1838835000@cviaa.org
SUMMARY:Simply AA Birthday Speaker meeting
DESCRIPTION:Potluck at 5:30 PM\nSpeaker at 6:30 PM
URL:https://cviaa.org/aa/event/simply-aa-birthday-speaker-meeting-2/2028-04-08/
LOCATION:Salvation Army Salt Room\, 893 Lander Ave\, Turlock\, CA\, 95380\, United States
END:VEVENT
BEGIN:VEVENT
DTSTART;TZID=America/Los_Angeles:20280410T183000
DTEND;TZID=America/Los_Angeles:20280410T193000
DTSTAMP:20260419T221503
CREATED:20260205T024622Z
LAST-MODIFIED:20260205T024622Z
UID:10004932-1839004200-1839007800@cviaa.org
SUMMARY:Simply AA Business Meeting
DESCRIPTION:
URL:https://cviaa.org/aa/event/simply-aa-business-meeting/2028-04-10/
LOCATION:Salvation Army Salt Room\, 893 Lander Ave\, Turlock\, CA\, 95380\, United States
END:VEVENT
BEGIN:VEVENT
DTSTART;TZID=America/Los_Angeles:20280424T180000
DTEND;TZID=America/Los_Angeles:20280424T193000
DTSTAMP:20260419T221503
CREATED:20250716T055257Z
LAST-MODIFIED:20250716T055334Z
UID:10004665-1840212000-1840217400@cviaa.org
SUMMARY:Central Valley Intergroup Business Meeting
DESCRIPTION:
URL:https://cviaa.org/aa/event/central-valley-intergroup-business-meeting/2028-04-24/
LOCATION:Salvation Army Salt Room\, 893 Lander Ave\, Turlock\, CA\, 95380\, United States
END:VEVENT
BEGIN:VEVENT
DTSTART;TZID=America/Los_Angeles:20280508T183000
DTEND;TZID=America/Los_Angeles:20280508T193000
DTSTAMP:20260419T221503
CREATED:20260205T024622Z
LAST-MODIFIED:20260205T024622Z
UID:10004933-1841423400-1841427000@cviaa.org
SUMMARY:Simply AA Business Meeting
DESCRIPTION:
URL:https://cviaa.org/aa/event/simply-aa-business-meeting/2028-05-08/
LOCATION:Salvation Army Salt Room\, 893 Lander Ave\, Turlock\, CA\, 95380\, United States
END:VEVENT
BEGIN:VEVENT
DTSTART;TZID=America/Los_Angeles:20280513T173000
DTEND;TZID=America/Los_Angeles:20280513T193000
DTSTAMP:20260419T221503
CREATED:20230922T141320Z
LAST-MODIFIED:20230922T141357Z
UID:10002666-1841851800-1841859000@cviaa.org
SUMMARY:Simply AA Birthday Speaker meeting
DESCRIPTION:Potluck at 5:30 PM\nSpeaker at 6:30 PM
URL:https://cviaa.org/aa/event/simply-aa-birthday-speaker-meeting-2/2028-05-13/
LOCATION:Salvation Army Salt Room\, 893 Lander Ave\, Turlock\, CA\, 95380\, United States
END:VEVENT
BEGIN:VEVENT
DTSTART;TZID=America/Los_Angeles:20280522T180000
DTEND;TZID=America/Los_Angeles:20280522T193000
DTSTAMP:20260419T221503
CREATED:20250716T055257Z
LAST-MODIFIED:20250716T055334Z
UID:10004666-1842631200-1842636600@cviaa.org
SUMMARY:Central Valley Intergroup Business Meeting
DESCRIPTION:
URL:https://cviaa.org/aa/event/central-valley-intergroup-business-meeting/2028-05-22/
LOCATION:Salvation Army Salt Room\, 893 Lander Ave\, Turlock\, CA\, 95380\, United States
END:VEVENT
BEGIN:VEVENT
DTSTART;TZID=America/Los_Angeles:20280610T173000
DTEND;TZID=America/Los_Angeles:20280610T193000
DTSTAMP:20260419T221503
CREATED:20230922T141320Z
LAST-MODIFIED:20230922T141357Z
UID:10002667-1844271000-1844278200@cviaa.org
SUMMARY:Simply AA Birthday Speaker meeting
DESCRIPTION:Potluck at 5:30 PM\nSpeaker at 6:30 PM
URL:https://cviaa.org/aa/event/simply-aa-birthday-speaker-meeting-2/2028-06-10/
LOCATION:Salvation Army Salt Room\, 893 Lander Ave\, Turlock\, CA\, 95380\, United States
END:VEVENT
BEGIN:VEVENT
DTSTART;TZID=America/Los_Angeles:20280612T183000
DTEND;TZID=America/Los_Angeles:20280612T193000
DTSTAMP:20260419T221503
CREATED:20260205T024622Z
LAST-MODIFIED:20260205T024622Z
UID:10004934-1844447400-1844451000@cviaa.org
SUMMARY:Simply AA Business Meeting
DESCRIPTION:
URL:https://cviaa.org/aa/event/simply-aa-business-meeting/2028-06-12/
LOCATION:Salvation Army Salt Room\, 893 Lander Ave\, Turlock\, CA\, 95380\, United States
END:VEVENT
END:VCALENDAR